BEGIN:VCALENDAR
VERSION:2.0
PRODID:-//Program in Islamic Law - ECPv6.6.4.2//NONSGML v1.0//EN
CALSCALE:GREGORIAN
METHOD:PUBLISH
X-ORIGINAL-URL:https://pil.law.harvard.edu
X-WR-CALDESC:Events for Program in Islamic Law
REFRESH-INTERVAL;VALUE=DURATION:PT1H
X-Robots-Tag:noindex
X-PUBLISHED-TTL:PT1H
BEGIN:VTIMEZONE
TZID:America/New_York
BEGIN:DAYLIGHT
TZOFFSETFROM:-0500
TZOFFSETTO:-0400
TZNAME:EDT
DTSTART:20260308T070000
END:DAYLIGHT
BEGIN:STANDARD
TZOFFSETFROM:-0400
TZOFFSETTO:-0500
TZNAME:EST
DTSTART:20261101T060000
END:STANDARD
END:VTIMEZONE
BEGIN:VEVENT
DTSTART;VALUE=DATE:20260416
DTEND;VALUE=DATE:20260417
DTSTAMP:20260419T112612
CREATED:20260319T203612Z
LAST-MODIFIED:20260416T234914Z
UID:10001848-1776297600-1776383999@pil.law.harvard.edu
SUMMARY:Fellowship: MESA 2026–2027 Global Academy\, April 16\, 2026
DESCRIPTION:The Global Academy Fellowship Applications\nfor the 2026-2027 academic year\nis now open! \nThe MESA Global Academy offers scholars of the Middle East from the MENA region who are currently displaced and/or whose careers have been disrupted in their home countries due to war\, institutional collapse\, or repression the chance to join the strongest network of Middle East Studies scholars in North America\, with professional development opportunities and a modest grant. \nProfessional development opportunities include curated speaking engagements at partner universities across the United States\, Canada and Europe\, publication opportunities with leading journals in the field\, mentoring\, and workshops such as grant and proposal writing workshops. Fellows also benefit from being part of a supportive intellectual community during a time of professional transition. \nEligibility criteria for the fellowships are: 1) holding a PhD or equivalent in a field in the social sciences or humanities (graduate students will not be considered); 2) the primary institutional affiliation was in the MENA region prior to displacement; and 3) a publication record indicating scholarly productivity (in English\, French\, a native MENA language\, or principal research language of the field). \nPlease reach out to Ceren Abi\, Program Manager\, at ceren@mesana.org with any questions about the Global Academy or the application process. Please share this call far and wide. \nApply here.
URL:https://pil.law.harvard.edu/event/fellowship-mesa-2026-2027-global-academy-april-16-2026/
CATEGORIES:Due dates,Fellowships,Opportunities
END:VEVENT
BEGIN:VEVENT
DTSTART;TZID=America/New_York:20260416T120000
DTEND;TZID=America/New_York:20260416T133000
DTSTAMP:20260419T112612
CREATED:20260302T025244Z
LAST-MODIFIED:20260416T234914Z
UID:10001844-1776340800-1776346200@pil.law.harvard.edu
SUMMARY:Roundtable: Knowledge in the Islamic Court\, Program in Islamic Law\, Harvard Law School\, April 16\, 2026
DESCRIPTION:What counts as proof in an Islamic court? How does a judge rule between competing claims to truth? How does technological advancement impact notions of evidence? How can our understanding of Islamic law writ large change if we center its rules of adjudication? And what constitutes an “Islamic” court or judge in the first place? The participants of this roundtable seek to address these questions through five respective case studies and propose that attention to evidence\, proof\, and procedure will help us better understand both the adjudicative process and juristic intent of Islamic legal rules. Focusing primarily on the modern and contemporary world\, the five contributions center varying conceptions of proof amidst rapid social and technological changes in Islamic judicial contexts. \nConveners: Nurul Hoda Mohd. Razif (University of Bergen) and Ari Schriber (University of Erfurt) \nContributors: Aya Bejermi (University of Bordeaux)\, Léon Buskens (Leiden University)\, Dominik Krell (University of Oxford)\, Irene Schneider (Göttingen University)\, Mashal Saif (Clemson University) \nJoin us on zoom\, April 16\, 2026 @ 12:00pm EST. Registration required.
URL:https://pil.law.harvard.edu/event/roundtable-knowledge-in-the-islamic-court-program-in-islamic-law-harvard-law-school-april-16-2026/
CATEGORIES:lectures and talks,PIL events
END:VEVENT
END:VCALENDAR