BEGIN:VCALENDAR
VERSION:2.0
PRODID:-//Program in Islamic Law - ECPv6.6.4.2//NONSGML v1.0//EN
CALSCALE:GREGORIAN
METHOD:PUBLISH
X-WR-CALNAME:Program in Islamic Law
X-ORIGINAL-URL:https://pil.law.harvard.edu
X-WR-CALDESC:Events for Program in Islamic Law
REFRESH-INTERVAL;VALUE=DURATION:PT1H
X-Robots-Tag:noindex
X-PUBLISHED-TTL:PT1H
BEGIN:VTIMEZONE
TZID:America/New_York
BEGIN:DAYLIGHT
TZOFFSETFROM:-0500
TZOFFSETTO:-0400
TZNAME:EDT
DTSTART:20260308T070000
END:DAYLIGHT
BEGIN:STANDARD
TZOFFSETFROM:-0400
TZOFFSETTO:-0500
TZNAME:EST
DTSTART:20261101T060000
END:STANDARD
END:VTIMEZONE
BEGIN:VEVENT
DTSTART;TZID=America/New_York:20260420T181500
DTEND;TZID=America/New_York:20260420T193000
DTSTAMP:20260420T211234
CREATED:20260205T234918Z
LAST-MODIFIED:20260420T234759Z
UID:10001837-1776708900-1776713400@pil.law.harvard.edu
SUMMARY:Workshop: Middle East Beyond Borders—Djelemory Diabate\, “Closing the Sufi Age: Authority\, Finality\, and Political Theology in Umar al-Futi Tal’s Kitab Rimah\,” April 20\, 2026 @ 6:15pm
DESCRIPTION:Djelemory Diabate (CSR)\, “Closing the Sufi Age: Authority\, Finality\, and Political Theology in Umar al-Futi Tal’s Kitab Rimah.” Amadu Kunateh (CSR) will respond. \nWe will be meeting from 6:15-7:30pm in the Finnegan Room (Barker 403) and dinner will be provided. See event flyer for more info and to RSVP. \nThe Middle East Beyond Borders (MEBB) workshop aims to foster an interdisciplinary community of scholars working on the past and present of the Middle East. It takes as its founding premise the idea that the “Middle East” as an object of inquiry must fundamentally engage notions of boundaries\, mobility\, and transformation. Our goal is to offer a platform for collaboration and discussion to all Middle East scholars at Harvard across a wide range of academic fields and disciplines. To date\, our community has welcomed scholars from NELC\, History\, Middle Eastern Studies\, Anthropology\, the Study of Religion\, Law\, Art and Architecture\, and more. During meetings\, we typically workshop a polished dissertation chapter or prospectuses from graduate students.
URL:https://pil.law.harvard.edu/event/workshop-middle-east-beyond-borders-djelemory-diabate-closing-the-sufi-age-authority-finality-and-political-theology-in-umar-al-futi-tals-kitab-rimah-april-20-2/
CATEGORIES:conferences and workshops,Harvard Events
END:VEVENT
END:VCALENDAR