BEGIN:VCALENDAR
VERSION:2.0
PRODID:-//Program in Islamic Law - ECPv6.6.4.2//NONSGML v1.0//EN
CALSCALE:GREGORIAN
METHOD:PUBLISH
X-WR-CALNAME:Program in Islamic Law
X-ORIGINAL-URL:https://pil.law.harvard.edu
X-WR-CALDESC:Events for Program in Islamic Law
REFRESH-INTERVAL;VALUE=DURATION:PT1H
X-Robots-Tag:noindex
X-PUBLISHED-TTL:PT1H
BEGIN:VTIMEZONE
TZID:America/New_York
BEGIN:DAYLIGHT
TZOFFSETFROM:-0500
TZOFFSETTO:-0400
TZNAME:EDT
DTSTART:20250309T070000
END:DAYLIGHT
BEGIN:STANDARD
TZOFFSETFROM:-0400
TZOFFSETTO:-0500
TZNAME:EST
DTSTART:20251102T060000
END:STANDARD
END:VTIMEZONE
BEGIN:VEVENT
DTSTART;VALUE=DATE:20250701
DTEND;VALUE=DATE:20250705
DTSTAMP:20260422T080910
CREATED:20250405T002143Z
LAST-MODIFIED:20250630T003621Z
UID:10001760-1751328000-1751673599@pil.law.harvard.edu
SUMMARY:Workshop: “From Classical ML to AI in Arabic and Islamic Studies\,” Hamburg University\, July 1-4\, 2025
DESCRIPTION:From the organizers: \nDear friends and colleagues\, \nI would like to invite you to the workshop “From Classical ML to AI in Arabic and Islamic Studies” that we are organizing at Hamburg University: \nWorkshop Title: From Classical ML to AI in Arabic and Islamic Studies: A Hands-On Workshop \nDates: July 1-4\, 2025\nLocation: University of Hamburg\, Afrika-Asien Institut \nWe are excited to announce the upcoming hands-on workshop\, “From Classical ML to AI in Arabic and Islamic Studies”\, taking place from July 1st to 4th\, 2025\, at the University of Hamburg’s Afrika-Asien Institut. This workshop is part of the Emmy Noether Project “Evolution of Islamic Societies (600-1600): Algorithmic Analysis into Social History\,” [EIS1600]\, funded by the Deutsche Forschungsgemeinschaft. \nThis workshop is designed to equip participants with the necessary skills to apply both classical machine learning techniques and the latest AI technologies in the study of Arabic and Islamic texts. Participants will gain practical experience and theoretical knowledge\, enabling them to harness these cutting-edge technologies in their research. A working knowledge of Python is required. We will use Arabic texts from the OpenITI Corpus as our data. \nThis event is ideal for researchers in the fields of Arabic and Islamic studies who are eager to integrate the latest technologies into their work and to make bold contributions to the evolving landscape of humanistic research in our fast-paced digital age. \nApplication Deadline: April 30\nNotification of Acceptance: First week of May\nWe are pleased to offer partial financial support for some participants. For more details or to address any inquiries\, please contact Alicia Gonzalez atalicia.gonzalez@uni-hamburg.de. \nOrganizers: EIS1600 Team—Alicia Gonzalez Martinez\, Hamid Reza Hakimi\, and Maxim Romanov\, University of Hamburg\nInstructors: Tariq Yousef\, University of Southern Denmark; Maroussia Bednarkiewicz\, IE University\nConfirmed Participants: Sarah Savant\, Peter Verkinderen\, Masoumeh Seydi\, AKU-London \nJoin us for this innovative workshop and be part of the future of Arabic and Islamic studies research!
URL:https://pil.law.harvard.edu/event/workshop-from-classical-ml-to-ai-in-arabic-and-islamic-studies-hamburg-university-july-1-4-2025/
CATEGORIES:Applications,conferences and workshops,digital humanities,Due dates,lectures and talks
END:VEVENT
BEGIN:VEVENT
DTSTART;VALUE=DATE:20250707
DTEND;VALUE=DATE:20250708
DTSTAMP:20260422T080910
CREATED:20250408T000715Z
LAST-MODIFIED:20250707T233441Z
UID:10001761-1751846400-1751932799@pil.law.harvard.edu
SUMMARY:Summer Language Intensive Program: Istanbul University Institute for Islamic Studies\, July 7 – August 8\, 2025
DESCRIPTION:Summer Language Intensive Program 2025\nIstanbul University Institute for Islamic Studies\n(Kuyucu Murad Pasha Madrasa\, Vezneciler/Fatih) \nJoin the Summer Language Intensive Program at Istanbul University and enhance your academic research skills in Modern Turkish and Ottoman Turkish. This program is ideal for MA and PhD students in the fields of history\, literature\, and Islamic studies. \nProgram Dates:\nJuly 7th – August 8th\, 2025 (5 weeks) \nClass Schedule:\nWeekdays\, 9:00 AM – 1:00 PM\n(4 hours daily\, 20 hours per week\, 100 total hours) \nLevels Offered:\nBeginner\, Intermediate\, and Advanced \nProgram Fee:\n1\,500 USD \n\nIncluded in the Program:\n\n100 hours of intensive language training\nAccess to the Islamic Studies Institute Special Collections Library\nSeminars by field experts\nGuided tours to key historical sites: Historical Peninsula\, Süleymaniye Manuscript Library\, and Presidential Archives\nRefreshments (hot & cold drinks and snacks)\nIstanbul University certificate upon completion\n\n\nNote: \n\nMaximum of 10 students per class\nVisa\, flight\, accommodation\, and health insurance are not included\n\n\nApply now to immerse yourself in the rich cultural and historical context of Istanbul while mastering key research languages! \nFor more information and registration\, please contact the program director:\nM. Fatih Çalışır\, PhD\n📧 mfcalisir@istanbul.edu.tr\n🔗 https://islamtetkikleri.istanbul.edu.tr/en/
URL:https://pil.law.harvard.edu/event/summer-language-intensive-program-istanbul-university-institute-for-islamic-studies-july-7-august-8-2025/
CATEGORIES:courses,Due dates,lectures and talks,Opportunities
ATTACH;FMTTYPE=image/jpeg:https://pil.law.harvard.edu/wp-content/uploads/2025/04/WhatsApp-Image-2025-01-03-at-15.37.25-MtVvtL.tmp_.jpg
END:VEVENT
END:VCALENDAR