BEGIN:VCALENDAR
VERSION:2.0
PRODID:-//Program in Islamic Law - ECPv6.6.4.2//NONSGML v1.0//EN
CALSCALE:GREGORIAN
METHOD:PUBLISH
X-WR-CALNAME:Program in Islamic Law
X-ORIGINAL-URL:https://pil.law.harvard.edu
X-WR-CALDESC:Events for Program in Islamic Law
REFRESH-INTERVAL;VALUE=DURATION:PT1H
X-Robots-Tag:noindex
X-PUBLISHED-TTL:PT1H
BEGIN:VTIMEZONE
TZID:America/New_York
BEGIN:DAYLIGHT
TZOFFSETFROM:-0500
TZOFFSETTO:-0400
TZNAME:EDT
DTSTART:20260308T070000
END:DAYLIGHT
BEGIN:STANDARD
TZOFFSETFROM:-0400
TZOFFSETTO:-0500
TZNAME:EST
DTSTART:20261101T060000
END:STANDARD
END:VTIMEZONE
BEGIN:VEVENT
DTSTART;VALUE=DATE:20260301
DTEND;VALUE=DATE:20260302
DTSTAMP:20260423T100514
CREATED:20260122T220617Z
LAST-MODIFIED:20260301T234823Z
UID:10001824-1772323200-1772409599@pil.law.harvard.edu
SUMMARY:Call for Applications: Orient-Institut Beirut Residential Postdoctoral Fellowship\, March 1\, 2026
DESCRIPTION:Call for Applications: Postdoctoral Fellowships 2026-27 \nThe Orient-Institut Beirut (OIB) awards a number of fellowships-in-residence normally lasting 10 months and beginning on 1 September 2026 or shortly thereafter\, specifically designed for postdoctoral candidates engaged in outstanding research projects in the humanities and social sciences. We invite applications across disciplines\, time periods\, and geographic coverage outlined in our mission statement . Proposals are encouraged to articulate the contemporary stakes of the research project\, whether historiographical\, cultural\, religious or political dimensions. \nApplicants must hold a doctoral degree. It is essential for applicants to demonstrate how their projects will benefit from an extended stay in the region and contribute to the institute’s overall research environment. \nProficiency in written and oral English\, as well as all languages relevant to the research project\, is expected. Priority will be given to candidates with demonstrated oral proficiency in German. Fellows-in-residence are required to actively engage in the OIB’s research community\, by attending weekly colloquia\, and participating in relevant scholarly activities and events. attending weekly colloquia\, and participating in relevant scholarly activities and events. Fellows are required to present their work twice and write a research report for the OIB Annual Report and encouraged to publish a research precis in our OIB-Blog . \nFellowships include a monthly stipend of currently 1\,900 Euros and a one-time travel allowance of 600 Euros for those arriving from abroad. We also offer support for organizing an academic workshop that fits within the research profile of the OIB. Depending on availability\, the OIB may provide fellows-in-residence with office space. The OIB will not provide funding for preliminary research\, language courses\, or the composition and revision of book manuscripts. \nApplications must include: \n\nA brief cover letter indicating the preferred duration of the fellowship\nCurriculum vitae\nResearch proposal / project description (max. 2\,000 words)\nAt least one letter of recommendation\n\nThe application package should be submitted as a single PDF file (excluding letters of recommendation\, which should be submitted directly by the referee) to bewerbungen@orient-institut.org . Applicants may write in either English\, Arabic\, or German but need to demonstrate their proficiency in English so they can take part in OIB activities. The deadline for applications is 1 March 2026 . Interviews will be conducted via video call that month.
URL:https://pil.law.harvard.edu/event/call-for-applications-orient-institut-beirut-residential-postdoctoral-fellowship-march-1-2026/
CATEGORIES:Due dates,Fellowships,Opportunities
END:VEVENT
BEGIN:VEVENT
DTSTART;VALUE=DATE:20260301
DTEND;VALUE=DATE:20260302
DTSTAMP:20260423T100514
CREATED:20260227T003325Z
LAST-MODIFIED:20260301T234823Z
UID:10001839-1772323200-1772409599@pil.law.harvard.edu
SUMMARY:Call for Contributions: Middle East Medievalists Newsletter\, March 1\, 2026
DESCRIPTION:Call for Contributions: MEM Newsletter March 2026 \n\nIn order to represent the whole MEMbership as fully as possible\, we invite all MEMbers to contribute their news on a regular basis so as to facilitate and increase communication between colleagues and within fields. For the next newsletter issue\, which will be published on 15 March 2026\, please submit by 1 March 2026 any contribution you would like to share. \n\n\nContributions should respond to one or more of the relevant sections of the updated newsletter\, which are as follows: \n\n\nEvents (comprising upcoming conferences\, seminars\, summer schools\, and the like)\nPublications (monographs\, edited volumes\, themed issues\, editions\, translations\, and al-ʿUṣūr al-Wusṭā content)\nOnline research output (comprising e.g. blogs\, conference reports\, resources (databases\, digital tools)\, datasets\, and websites)\nProjects and funding (e.g. successful larger funding applications (ERC\, DFG\, ANR\, NEH\, and so forth); new project groups)\nDissertations (information on current and recently completed doctoral research\, submitted by doctoral candidates or their supervisors)\n\n\nMEM has set up a secure folder on Proton Drive to which you can directly upload your content\, formatted as Word\, PDF\, or JPG. In this folder you will find a general ReadMe as well as guidelines within the sub-folders devoted to each individual section. We encourage you to include pictures whenever possible\, such as new book covers or conference photos. The folder can be found here: https://drive.proton.me/urls/Y2GP5B9K88#gNDolIY5Gnce. \n\n\nIf you have any questions or comments at all\, please do not hesitate to get in touch with the Newsletter Editors\, Hannah-Lena Hagemann (Hamburg) and Noëmie Lucas (Beirut)\, at hannah-lena.hagemann@uni-hamburg.de and n.lucas@ifporient.org.
URL:https://pil.law.harvard.edu/event/call-for-contributions-middle-east-medievalists-newsletter-march-1-2026/
CATEGORIES:Due dates,Opportunities
END:VEVENT
BEGIN:VEVENT
DTSTART;VALUE=DATE:20260301
DTEND;VALUE=DATE:20260302
DTSTAMP:20260423T100514
CREATED:20260227T003325Z
LAST-MODIFIED:20260301T234823Z
UID:10001840-1772323200-1772409599@pil.law.harvard.edu
SUMMARY:Call for Nominations: American Society of Comparative Law Book Prize\, March 1\, 2026
DESCRIPTION:The ASCL Book Prize recognizes outstanding scholarly achievement in the field of comparative law. The prize celebrates rigorous\, original\, and impactful research of law across jurisdictions. The prize is awarded to the author or authors of an English-language (including by translation) monograph. Eligible works include those that examine legal issues through a comparative lens\, study foreign legal systems\, engage in the comparative study of legal history\, or address aspects of private international law. Edited volumes\, reference works\, or new editions of a previously published work are not eligible. To be eligible for consideration\, a nominated work must have a copyright date of 2025 or 2026.   \nThe winner of the ASCL Book Prize will be announced at the Annual Meeting of the American Society of Comparative Law and memorialized on the ASCL website. The prize encompasses a $1\,000 award and a review of the book in the American Journal of Comparative Law. The winning author will be expected to assist in the selection of the book prize for the next cycle year. The Prize Committee may\, in its discretion\, also award an Honorable Mention. \nWe are now accepting nominations for the ASCL Book Prize. To submit a nomination\, please email Margaret Woo (m.woo@northeastern.edu) with the following information by March 1\, 2026: \n\nName of the nominator\nName of the nominee\nTitle of the nominated work\nPublisher\nPublication date\n\nUpon instruction by the Committee\, either a PDF file or hard copy of a nominated work must be received by each member of the Prizes Committee by April 1. Hard copies of nominated works will not be returned.
URL:https://pil.law.harvard.edu/event/call-for-nominations-american-society-of-comparative-law-book-prize-march-1-2026/
CATEGORIES:Due dates,Opportunities
END:VEVENT
END:VCALENDAR