BEGIN:VCALENDAR
VERSION:2.0
PRODID:-//Program in Islamic Law - ECPv6.6.4.2//NONSGML v1.0//EN
CALSCALE:GREGORIAN
METHOD:PUBLISH
X-ORIGINAL-URL:https://pil.law.harvard.edu
X-WR-CALDESC:Events for Program in Islamic Law
REFRESH-INTERVAL;VALUE=DURATION:PT1H
X-Robots-Tag:noindex
X-PUBLISHED-TTL:PT1H
BEGIN:VTIMEZONE
TZID:America/New_York
BEGIN:DAYLIGHT
TZOFFSETFROM:-0500
TZOFFSETTO:-0400
TZNAME:EDT
DTSTART:20240310T070000
END:DAYLIGHT
BEGIN:STANDARD
TZOFFSETFROM:-0400
TZOFFSETTO:-0500
TZNAME:EST
DTSTART:20241103T060000
END:STANDARD
END:VTIMEZONE
BEGIN:VEVENT
DTSTART;VALUE=DATE:20241014
DTEND;VALUE=DATE:20241015
DTSTAMP:20260421T104356
CREATED:20240716T000532Z
LAST-MODIFIED:20241014T233446Z
UID:10001650-1728864000-1728950399@pil.law.harvard.edu
SUMMARY:Call for Proposals: Hot Topics Program\, 2025 Association of American Law Schools Meeting\, October 14\, 2024
DESCRIPTION:From the organizers: \nGeneral Guidelines for All Open Submission Proposals\n\nPrograms may be proposed by full-time faculty members or administrators at AALS Member or Fee-Paid law schools. International faculty\, visiting faculty (who do not retain a permanent affiliation at another law school)\, graduate students\, and non-law school faculty are not eligible to submit proposals but may serve as presenters. \nProgram organizers should take the AALS core value of diversity into account and include junior faculty and participants who provide viewpoint diversity appropriate to the program and reflect a variety of law schools. \nA proposal for any of the four program categories should include: \n\nProgram title.\nNames\, affiliations\, and contact information of the program organizers.\nDetailed description of the proposed program\, including (a) the format of the proposed program; (b) an explanation of the overall goal of the program; (c) a description of how diversity is achieved by the program’s speakers\, content\, and/or structure; and (d) if applicable\, an indication that one or more speakers will be selected from a call for participants.\nNames\, titles\, and affiliations of speakers to be invited including links to or copies of their curricula vitae. The number of speakers per program or Symposium panel should be limited to a maximum of four\, plus one moderator. Discussion Groups typically have between eight and twelve discussants. Speakers should represent a mix of institutional affiliations.\nIf applicable\, proposals should name the journal or edited volume that will be publishing any papers that are presented.\n\nThe deadline is October 14\, 2024. For more details\, visit here.
URL:https://pil.law.harvard.edu/event/call-for-proposals-hot-topics-program-2025-association-of-american-law-schools-meeting-october-14-2024/
CATEGORIES:Applications,Call for papers,conferences and workshops,Due dates,lectures and talks,Opportunities,Programs
END:VEVENT
END:VCALENDAR