BEGIN:VCALENDAR
VERSION:2.0
PRODID:-//Program in Islamic Law - ECPv6.6.4.2//NONSGML v1.0//EN
CALSCALE:GREGORIAN
METHOD:PUBLISH
X-WR-CALNAME:Program in Islamic Law
X-ORIGINAL-URL:https://pil.law.harvard.edu
X-WR-CALDESC:Events for Program in Islamic Law
REFRESH-INTERVAL;VALUE=DURATION:PT1H
X-Robots-Tag:noindex
X-PUBLISHED-TTL:PT1H
BEGIN:VTIMEZONE
TZID:America/New_York
BEGIN:DAYLIGHT
TZOFFSETFROM:-0500
TZOFFSETTO:-0400
TZNAME:EDT
DTSTART:20240310T070000
END:DAYLIGHT
BEGIN:STANDARD
TZOFFSETFROM:-0400
TZOFFSETTO:-0500
TZNAME:EST
DTSTART:20241103T060000
END:STANDARD
END:VTIMEZONE
BEGIN:VEVENT
DTSTART;VALUE=DATE:20240520
DTEND;VALUE=DATE:20240521
DTSTAMP:20260423T211046
CREATED:20240415T133402Z
LAST-MODIFIED:20240520T232030Z
UID:10001638-1716163200-1716249599@pil.law.harvard.edu
SUMMARY:International Course on Legal Pluralism: Commission on Legal Pluralism\, May 20\, 2024
DESCRIPTION:“From 8-11 January 2025 the Commission on Legal Pluralism in collaboration with the Universitas Indonesia Law School will organize a course on Legal Pluralism in Jakarta\, Indonesia about theories\, knowledge and methodologies of legal pluralism. The purpose of the 4-day course is to familiarize the participants with the current international debates and insights on socio-legal studies and legal pluralism and to offer a comparative perspective that allows them to rethink their own research and practical work.” The deadline to apply is May 20\, 2024. \nFor details\, please visit the link here.
URL:https://pil.law.harvard.edu/event/international-course-on-legal-pluralism-commission-on-legal-pluralism-may-20-2024/
CATEGORIES:Applications,conferences and workshops,courses,Due dates,Opportunities
END:VEVENT
END:VCALENDAR